BEGIN:VCALENDAR
VERSION:2.0
PRODID:-//BOM IDW12300//Perth Forecast//EN
CALSCALE:GREGORIAN
METHOD:PUBLISH
X-WR-CALNAME:Perth Weather Forecast
X-WR-TIMEZONE:Australia/Perth
BEGIN:VEVENT
DTSTART;VALUE=DATE:20260424
DTEND;VALUE=DATE:20260425
SUMMARY:☀️ Mostly sunny
DESCRIPTION:Mostly sunny. Winds southwesterly 15 to 20 km/h becoming light 
 in the late afternoon.\nChance of rain: 10%
LOCATION:Perth\, WA
URL:https://www.bom.gov.au
UID:IDW12300-20260424@bom.gov.au
DTSTAMP:20260424T063113Z
END:VEVENT
BEGIN:VEVENT
DTSTART;VALUE=DATE:20260425
DTEND;VALUE=DATE:20260426
SUMMARY:☀️ 24°C — Sunny
DESCRIPTION:Sunny. The chance of morning fog about the hills. Light winds b
 ecoming southwesterly 15 to 20 km/h in the late afternoon then becoming li
 ght in the evening.\nMin: 10°C  Max: 24°C\nChance of rain: 5%
LOCATION:Perth\, WA
URL:https://www.bom.gov.au
UID:IDW12300-20260425@bom.gov.au
DTSTAMP:20260424T063113Z
END:VEVENT
BEGIN:VEVENT
DTSTART;VALUE=DATE:20260426
DTEND;VALUE=DATE:20260427
SUMMARY:☀️ 27°C — Mostly sunny
DESCRIPTION:Mostly sunny. Light winds becoming easterly 15 to 20 km/h in th
 e morning then becoming light in the middle of the day.\nMin: 11°C  Max: 
 27°C\nChance of rain: 5%
LOCATION:Perth\, WA
URL:https://www.bom.gov.au
UID:IDW12300-20260426@bom.gov.au
DTSTAMP:20260424T063113Z
END:VEVENT
BEGIN:VEVENT
DTSTART;VALUE=DATE:20260427
DTEND;VALUE=DATE:20260428
SUMMARY:⛈️ 21°C — Showers (4 to 15 mm)
DESCRIPTION:Cloudy. Very high chance of showers\, most likely in the mornin
 g and afternoon. The chance of a thunderstorm in the afternoon and evening
 . Light winds.\nMin: 15°C  Max: 21°C\nChance of rain: 95%\nRainfall: 4 t
 o 15 mm
LOCATION:Perth\, WA
URL:https://www.bom.gov.au
UID:IDW12300-20260427@bom.gov.au
DTSTAMP:20260424T063113Z
END:VEVENT
BEGIN:VEVENT
DTSTART;VALUE=DATE:20260428
DTEND;VALUE=DATE:20260429
SUMMARY:⛈️ 24°C — Possible shower (0 to 1 mm)
DESCRIPTION:Cloudy. Medium chance of showers\, most likely in the morning. 
 The chance of a thunderstorm in the evening. Light winds becoming east to 
 southeasterly 15 to 20 km/h during the morning then becoming light during 
 the afternoon.\nMin: 13°C  Max: 24°C\nChance of rain: 40%\nRainfall: 0 t
 o 1 mm
LOCATION:Perth\, WA
URL:https://www.bom.gov.au
UID:IDW12300-20260428@bom.gov.au
DTSTAMP:20260424T063113Z
END:VEVENT
BEGIN:VEVENT
DTSTART;VALUE=DATE:20260429
DTEND;VALUE=DATE:20260430
SUMMARY:🌦️ 24°C — Partly cloudy (0 to 1 mm)
DESCRIPTION:Partly cloudy. Medium chance of showers\, most likely during th
 e morning. Light winds becoming west to southwesterly 15 to 20 km/h during
  the day.\nMin: 14°C  Max: 24°C\nChance of rain: 30%\nRainfall: 0 to 1 mm
LOCATION:Perth\, WA
URL:https://www.bom.gov.au
UID:IDW12300-20260429@bom.gov.au
DTSTAMP:20260424T063113Z
END:VEVENT
BEGIN:VEVENT
DTSTART;VALUE=DATE:20260430
DTEND;VALUE=DATE:20260501
SUMMARY:🌦️ 22°C — Showers (0 to 6 mm)
DESCRIPTION:Partly cloudy. High chance of showers. Light winds becoming wes
 terly 15 to 25 km/h during the morning.\nMin: 13°C  Max: 22°C\nChance of
  rain: 80%\nRainfall: 0 to 6 mm
LOCATION:Perth\, WA
URL:https://www.bom.gov.au
UID:IDW12300-20260430@bom.gov.au
DTSTAMP:20260424T063113Z
END:VEVENT
BEGIN:VEVENT
DTSTART;VALUE=DATE:20260501
DTEND;VALUE=DATE:20260502
SUMMARY:🌦️ 18°C — Showers (1 to 15 mm)
DESCRIPTION:Partly cloudy. High chance of showers. Winds westerly 15 to 25 
 km/h turning southwesterly 20 to 30 km/h during the day.\nMin: 11°C  Max:
  18°C\nChance of rain: 90%\nRainfall: 1 to 15 mm
LOCATION:Perth\, WA
URL:https://www.bom.gov.au
UID:IDW12300-20260501@bom.gov.au
DTSTAMP:20260424T063113Z
END:VEVENT
END:VCALENDAR
